BEGIN:VCALENDAR
VERSION:2.0
PRODID:-//SV Sternenfels - ECPv5.16.4//NONSGML v1.0//EN
CALSCALE:GREGORIAN
METHOD:PUBLISH
X-WR-CALNAME:SV Sternenfels
X-ORIGINAL-URL:https://sv-sternenfels.de
X-WR-CALDESC:Veranstaltungen für SV Sternenfels
BEGIN:VTIMEZONE
TZID:Europe/Berlin
BEGIN:DAYLIGHT
TZOFFSETFROM:+0100
TZOFFSETTO:+0200
TZNAME:CEST
DTSTART:20260329T010000
END:DAYLIGHT
BEGIN:STANDARD
TZOFFSETFROM:+0200
TZOFFSETTO:+0100
TZNAME:CET
DTSTART:20261025T010000
END:STANDARD
END:VTIMEZONE
BEGIN:VEVENT
DTSTART;TZID=Europe/Berlin:20260426T150000
DTEND;TZID=Europe/Berlin:20260426T170000
DTSTAMP:20260419T165440
CREATED:20250717T100542Z
LAST-MODIFIED:20250805T154852Z
UID:1902-1777215600-1777222800@sv-sternenfels.de
SUMMARY:Auswärtsspiel der Herren gegen die SGM FC Gündelbach/TSV Häfnerhaslach
DESCRIPTION:19. Rundenspiel der Herren auswärts gegen die SGM FC Gündelbach/TSV Häfnerhaslach.
URL:https://sv-sternenfels.de/event/auswaertsspiel-der-herren-gegen-die-sgm-fc-guendelbach-tsv-haefnerhaslach/
LOCATION:Sportplatz FC Gündelbach\, Metterstr.\, Vaihingen an der Enz\, Baden-Württemberg\, 71665\, Deutschland
END:VEVENT
BEGIN:VEVENT
DTSTART;TZID=Europe/Berlin:20260503T150000
DTEND;TZID=Europe/Berlin:20260503T170000
DTSTAMP:20260419T165440
CREATED:20250717T085029Z
LAST-MODIFIED:20250717T085029Z
UID:1874-1777820400-1777827600@sv-sternenfels.de
SUMMARY:Heimspiel der Herren gegen den SV Iptingen
DESCRIPTION:20. Rundenspiel der Herren zu Hause gegen den SV Iptingen.
URL:https://sv-sternenfels.de/event/heimspiel-der-herren-gegen-den-sv-iptingen-3/
LOCATION:Sportplatz SV Sternenfels\, Am Sandberg\, Sternenfels\, Baden-Württemberg\, 75447\, Deutschland
END:VEVENT
BEGIN:VEVENT
DTSTART;TZID=Europe/Berlin:20260510T130000
DTEND;TZID=Europe/Berlin:20260510T150000
DTSTAMP:20260419T165440
CREATED:20250717T100310Z
LAST-MODIFIED:20250717T100310Z
UID:1900-1778418000-1778425200@sv-sternenfels.de
SUMMARY:Auswärtsspiel der Herren gegen die SGM Riexingen II
DESCRIPTION:21. Rundenspiel der Herren auswärts gegen die SGM Riexingen II.
URL:https://sv-sternenfels.de/event/auswaertsspiel-der-herren-gegen-die-sgm-riexingen-ii-4/
LOCATION:Sportplatz SGM Riexingen\, Mühlstr. 25\, Oberriexingen\, Baden-Württemberg\, 71739\, Deutschland
END:VEVENT
BEGIN:VEVENT
DTSTART;TZID=Europe/Berlin:20260517T150000
DTEND;TZID=Europe/Berlin:20260517T170000
DTSTAMP:20260419T165440
CREATED:20250717T085314Z
LAST-MODIFIED:20250717T085314Z
UID:1876-1779030000-1779037200@sv-sternenfels.de
SUMMARY:Heimspiel der Herren gegen die SGM SC Hohenhaslach/SV Freudental II
DESCRIPTION:22. Rundenspiel der Herren zu Hause gegen die SGM SC Hohenhaslach/SV Freudental II.
URL:https://sv-sternenfels.de/event/heimspiel-der-herren-gegen-die-sgm-sc-hohenhaslach-sv-freudental-ii-4/
LOCATION:Sportplatz SV Sternenfels\, Am Sandberg\, Sternenfels\, Baden-Württemberg\, 75447\, Deutschland
END:VEVENT
BEGIN:VEVENT
DTSTART;TZID=Europe/Berlin:20260531T150000
DTEND;TZID=Europe/Berlin:20260531T170000
DTSTAMP:20260419T165440
CREATED:20250717T100046Z
LAST-MODIFIED:20250717T100046Z
UID:1898-1780239600-1780246800@sv-sternenfels.de
SUMMARY:Auswärtsspiel der Herren gegen den TSV Wiernsheim
DESCRIPTION:23. Rundenspiel der Herren auswärts gegen den TSV Wiernsheim.
URL:https://sv-sternenfels.de/event/auswaertsspiel-der-herren-gegen-den-tsv-wiernsheim-3/
LOCATION:Sportplatz TSV Wiernsheim\, Lindenstr. 60\, Wiernsheim\, Baden-Württemberg\, 75446\, Deutschland
END:VEVENT
BEGIN:VEVENT
DTSTART;TZID=Europe/Berlin:20260607T150000
DTEND;TZID=Europe/Berlin:20260607T170000
DTSTAMP:20260419T165440
CREATED:20250717T085421Z
LAST-MODIFIED:20250717T085421Z
UID:1878-1780844400-1780851600@sv-sternenfels.de
SUMMARY:Heimspiel der Herren gegen den VfR Sersheim
DESCRIPTION:24. Rundenspiel der Herren zu Hause gegen den VfR Sersheim.
URL:https://sv-sternenfels.de/event/heimspiel-der-herren-gegen-den-vfr-sersheim/
LOCATION:Sportplatz SV Sternenfels\, Am Sandberg\, Sternenfels\, Baden-Württemberg\, 75447\, Deutschland
END:VEVENT
END:VCALENDAR