BEGIN:VCALENDAR
VERSION:2.0
PRODID:-//SV Sternenfels - ECPv5.16.4//NONSGML v1.0//EN
CALSCALE:GREGORIAN
METHOD:PUBLISH
X-WR-CALNAME:SV Sternenfels
X-ORIGINAL-URL:https://sv-sternenfels.de
X-WR-CALDESC:Veranstaltungen für SV Sternenfels
BEGIN:VTIMEZONE
TZID:Europe/Berlin
BEGIN:DAYLIGHT
TZOFFSETFROM:+0100
TZOFFSETTO:+0200
TZNAME:CEST
DTSTART:20200329T010000
END:DAYLIGHT
BEGIN:STANDARD
TZOFFSETFROM:+0200
TZOFFSETTO:+0100
TZNAME:CET
DTSTART:20201025T010000
END:STANDARD
END:VTIMEZONE
BEGIN:VEVENT
DTSTART;TZID=Europe/Berlin:20200222T192600
DTEND;TZID=Europe/Berlin:20200222T235900
DTSTAMP:20260420T101834
CREATED:20200203T162433Z
LAST-MODIFIED:20200210T210009Z
UID:878-1582399560-1582415940@sv-sternenfels.de
SUMMARY:Sandhasenfasching 2020
DESCRIPTION:Rammel rammel hop hop \, es ist wieder soweit – die Narren vom SV Sternenfels laden zum Fasching ein!\nWie in den vergangenen Jahren veranstalten wir am Samstag den 22.02.2020 unseren Sandhasenfasching im Bürgersaal.\nLos geht es mittags von 13:29 bis 16:59 Uhr mit dem Kinderfasching (Eintritt: 2\,-€).\nFür die Kleinen wartet wie jedes Jahr ein abwechslungsreiches Programm. Für das leibliche Wohl ist bestens gesorgt: Es werden Kaffee und Kuchen\, Butterbrezeln\, heiße Würste und Herings- oder Käseweckle angeboten. \nAbends ab 19:26 Uhr startet dann der Sandhasenfasching (Eintritt: 9\,-€). In diesem Jahr wird wieder die Band Realusion den Faschingsnarren kräftig einheizen. Bei Rock-\, Neue-Deutsche-Welle-\, Tanz- und Faschingsmusik wird jeder auf seine Kosten kommen. Wie schon in den letzten Jahren werden die Eselsgugga aus Zaisenhausen den Bügersaal zum Beben bringen. Zum Essen werden heiße Würste\, Herings-\, Fleischkäse- und Käseweckle angeboten. Beim durchgängigen Barbetrieb können verschieden Cocktails und Longdrinks genossen werden. \nWir freuen uns auf euer Kommen mit hoffentlich viel Feierlaune!
URL:https://sv-sternenfels.de/event/sandhasenfasching-2020/
LOCATION:Bürgersaal Sternenfels\, Brettener Str. 31\, Sternenfels\, Baden-Württemberg\, 75447\, Deutschland
END:VEVENT
END:VCALENDAR