BEGIN:VCALENDAR
VERSION:2.0
PRODID:-//SV Sternenfels - ECPv5.16.4//NONSGML v1.0//EN
CALSCALE:GREGORIAN
METHOD:PUBLISH
X-WR-CALNAME:SV Sternenfels
X-ORIGINAL-URL:https://sv-sternenfels.de
X-WR-CALDESC:Veranstaltungen für SV Sternenfels
BEGIN:VTIMEZONE
TZID:Europe/Berlin
BEGIN:DAYLIGHT
TZOFFSETFROM:+0100
TZOFFSETTO:+0200
TZNAME:CEST
DTSTART:20250330T010000
END:DAYLIGHT
BEGIN:STANDARD
TZOFFSETFROM:+0200
TZOFFSETTO:+0100
TZNAME:CET
DTSTART:20251026T010000
END:STANDARD
END:VTIMEZONE
BEGIN:VEVENT
DTSTART;TZID=Europe/Berlin:20250301T135900
DTEND;TZID=Europe/Berlin:20250301T170100
DTSTAMP:20260421T160730
CREATED:20250214T123128Z
LAST-MODIFIED:20250214T123230Z
UID:1829-1740837540-1740848460@sv-sternenfels.de
SUMMARY:Kinderfasching 2025
DESCRIPTION:
URL:https://sv-sternenfels.de/event/kinderfasching-2025/
LOCATION:Bürgersaal Sternenfels\, Brettener Str. 31\, Sternenfels\, Baden-Württemberg\, 75447\, Deutschland
END:VEVENT
END:VCALENDAR