BEGIN:VCALENDAR
VERSION:2.0
PRODID:-//SV Sternenfels - ECPv5.16.4//NONSGML v1.0//EN
CALSCALE:GREGORIAN
METHOD:PUBLISH
X-WR-CALNAME:SV Sternenfels
X-ORIGINAL-URL:https://sv-sternenfels.de
X-WR-CALDESC:Veranstaltungen für SV Sternenfels
BEGIN:VTIMEZONE
TZID:Europe/Berlin
BEGIN:DAYLIGHT
TZOFFSETFROM:+0100
TZOFFSETTO:+0200
TZNAME:CEST
DTSTART:20250330T010000
END:DAYLIGHT
BEGIN:STANDARD
TZOFFSETFROM:+0200
TZOFFSETTO:+0100
TZNAME:CET
DTSTART:20251026T010000
END:STANDARD
END:VTIMEZONE
BEGIN:VEVENT
DTSTART;TZID=Europe/Berlin:20250518T150000
DTEND;TZID=Europe/Berlin:20250518T170000
DTSTAMP:20260420T112439
CREATED:20240724T183846Z
LAST-MODIFIED:20240724T184131Z
UID:1741-1747580400-1747587600@sv-sternenfels.de
SUMMARY:Auswärtsspiel der Herren gegen den FV Roßwag
DESCRIPTION:23. Rundenspiel der Herren auswärts gegen den FV Roßwag.
URL:https://sv-sternenfels.de/event/auswaertsspiel-der-herren-gegen-den-fv-rosswag/
LOCATION:Sportplatz FV Roßwag\, Manfred-Behr-Str.\, Vaihingen an der Enz\, Baden-Württemberg\, 71665\, Deutschland
END:VEVENT
END:VCALENDAR