BEGIN:VCALENDAR
VERSION:2.0
PRODID:-//SV Sternenfels - ECPv5.16.4//NONSGML v1.0//EN
CALSCALE:GREGORIAN
METHOD:PUBLISH
X-WR-CALNAME:SV Sternenfels
X-ORIGINAL-URL:https://sv-sternenfels.de
X-WR-CALDESC:Veranstaltungen für SV Sternenfels
BEGIN:VTIMEZONE
TZID:Europe/Berlin
BEGIN:DAYLIGHT
TZOFFSETFROM:+0100
TZOFFSETTO:+0200
TZNAME:CEST
DTSTART:20230326T010000
END:DAYLIGHT
BEGIN:STANDARD
TZOFFSETFROM:+0200
TZOFFSETTO:+0100
TZNAME:CET
DTSTART:20231029T010000
END:STANDARD
END:VTIMEZONE
BEGIN:VEVENT
DTSTART;TZID=Europe/Berlin:20231029T150000
DTEND;TZID=Europe/Berlin:20231029T164500
DTSTAMP:20260420T102953
CREATED:20230710T210534Z
LAST-MODIFIED:20230710T210857Z
UID:1451-1698591600-1698597900@sv-sternenfels.de
SUMMARY:Auswärtsspiel der Herren gegen den FV Markgröningen
DESCRIPTION:7. Rundenspiel der Herren auswärts gegen den FV Markgröningen.
URL:https://sv-sternenfels.de/event/auswaertsspiel-der-herren-gegen-den-fv-markgroeningen/
LOCATION:Sportplatz FV Markgröningen\, Schul-und Sportzentrum am Benzberg\, Markgröningen\, Baden-Württemberg\, 75447\, Deutschland
END:VEVENT
END:VCALENDAR